BEGIN:VCALENDAR
VERSION:2.0
PRODID:-//ChamberMaster//Event Calendar 2.0//EN
METHOD:PUBLISH
X-PUBLISHED-TTL:P1H
REFRESH-INTERVAL:P1H
CALSCALE:GREGORIAN
BEGIN:VTIMEZONE
TZID:America/New_York
BEGIN:DAYLIGHT
RRULE:FREQ=YEARLY;BYMONTH=3;BYDAY=2SU
DTSTART:20070101T000000
TZOFFSETFROM:-0500
TZOFFSETTO:-0400
TZNAME:Eastern Daylight Time
END:DAYLIGHT
BEGIN:STANDARD
RRULE:FREQ=YEARLY;BYMONTH=11;BYDAY=1SU
DTSTART:20070101T000000
TZOFFSETFROM:-0400
TZOFFSETTO:-0500
TZNAME:Eastern Standard Time
END:STANDARD
END:VTIMEZONE
BEGIN:VEVENT
DTSTART;TZID=America/New_York:20260420T130000
DTEND;TZID=America/New_York:20260420T140000
X-MICROSOFT-CDO-ALLDAYEVENT:FALSE
SUMMARY:Webinar: AHEAD Comment Writing Roadmap - School Owners & Operators
DESCRIPTION:The AHEAD rulemaking could significantly impact your school and your students now is the time to make your voice heard.Join AACS for a member-exclusive webinar where we'll walk you through exactly how to submit effective regulatory comments.🗓 April 20 | 1:00 PM ETIn this session\, you'll learn:What AHEAD means for your schoolKey issues to address in your commentsHow to structure and submit a strong responseNo experience needed! AACS will provide the guidance\, tools\, and talking points.
X-ALT-DESC;FMTTYPE=text/html:<!DOCTYPE html><html><head><title></title></head><body aria-disabled="false"><p data-end="268" data-start="149">The AHEAD rulemaking could significantly impact your school and your students&mdash\;now is the time to make your voice heard.</p><p data-end="392" data-start="270">Join AACS for a member-<span style="color: rgb(0\, 0\, 0)\; font-family: Arial\; font-size: medium\; font-style: normal\; font-variant-ligatures: normal\; font-variant-caps: normal\; font-weight: 400\; letter-spacing: normal\; orphans: 2\; text-align: start\; text-indent: 0px\; text-transform: none\; widows: 2\; word-spacing: 0px\; -webkit-text-stroke-width: 0px\; white-space: normal\; text-decoration-thickness: initial\; text-decoration-style: initial\; text-decoration-color: initial\; display: inline !important\; float: none\;">exclusive webinar where we&rsquo\;ll walk you through exactly how to submit effective regulatory com</span>ments.</p><p data-end="422" data-start="394"><strong data-end="422" data-start="394" fr-original-style="" style="font-weight: 700\;">🗓 April 20 | 1:00 PM ET</strong></p><p data-end="454" data-start="424">In this session\, you&rsquo\;ll learn:</p><ul data-end="584" data-start="455" fr-original-style="" style="list-style-position: inside\;"><li data-end="491" data-section-id="106rijl" data-start="455">What AHEAD means for your school</li><li data-end="534" data-section-id="1sv7rta" data-start="492">Key issues to address in your comments</li><li data-end="584" data-section-id="1vuazp4" data-start="535">How to structure and submit a strong response</li></ul><p data-end="665" data-start="586">No experience needed! AACS will provide the guidance\, tools\, and talking points.</p></body></html>
LOCATION:
UID:e.3904.1444533
SEQUENCE:3
DTSTAMP:20260425T020932Z
URL:https://aacs.growthzoneapp.com/events/Details/webinar-ahead-comment-writing-roadmap-school-owners-operators-1710909?sourceTypeId=Hub
END:VEVENT
END:VCALENDAR
