BEGIN:VCALENDAR
VERSION:2.0
PRODID:-//ChamberMaster//Event Calendar 2.0//EN
METHOD:PUBLISH
X-PUBLISHED-TTL:P1H
REFRESH-INTERVAL:P1H
CALSCALE:GREGORIAN
BEGIN:VTIMEZONE
TZID:America/New_York
BEGIN:DAYLIGHT
RRULE:FREQ=YEARLY;BYMONTH=3;BYDAY=2SU
DTSTART:20070101T000000
TZOFFSETFROM:-0500
TZOFFSETTO:-0400
TZNAME:Eastern Daylight Time
END:DAYLIGHT
BEGIN:STANDARD
RRULE:FREQ=YEARLY;BYMONTH=11;BYDAY=1SU
DTSTART:20070101T000000
TZOFFSETFROM:-0400
TZOFFSETTO:-0500
TZNAME:Eastern Standard Time
END:STANDARD
END:VTIMEZONE
BEGIN:VEVENT
DTSTART;TZID=America/New_York:20260617T140000
DTEND;TZID=America/New_York:20260617T150000
X-MICROSOFT-CDO-ALLDAYEVENT:FALSE
SUMMARY:[Partner Event] Consumer Information Requirements
DESCRIPTION:With the demands of daily operations\, it’s easy to overlook updating your consumer information on your website and in your materials. This webinar will help you stay on top of key requirements and deadlines.
X-ALT-DESC;FMTTYPE=text/html:With the demands of daily operations\, it’s easy to overlook updating your consumer information on your website and in your materials. This webinar will help you stay on top of key requirements and deadlines.
LOCATION:
UID:e.3904.1449494
SEQUENCE:3
DTSTAMP:20260425T020742Z
URL:https://aacs.growthzoneapp.com/events/Details/partner-event-consumer-information-requirements-1716944?sourceTypeId=Hub
END:VEVENT
END:VCALENDAR
